BEGIN:VCALENDAR
VERSION:2.0
PRODID:-//Symphony of Southeast Texas - ECPv6.15.20//NONSGML v1.0//EN
CALSCALE:GREGORIAN
METHOD:PUBLISH
X-WR-CALNAME:Symphony of Southeast Texas
X-ORIGINAL-URL:https://sost.org
X-WR-CALDESC:Events for Symphony of Southeast Texas
REFRESH-INTERVAL;VALUE=DURATION:PT1H
X-Robots-Tag:noindex
X-PUBLISHED-TTL:PT1H
BEGIN:VTIMEZONE
TZID:America/Chicago
BEGIN:DAYLIGHT
TZOFFSETFROM:-0600
TZOFFSETTO:-0500
TZNAME:CDT
DTSTART:20220313T080000
END:DAYLIGHT
BEGIN:STANDARD
TZOFFSETFROM:-0500
TZOFFSETTO:-0600
TZNAME:CST
DTSTART:20221106T070000
END:STANDARD
BEGIN:DAYLIGHT
TZOFFSETFROM:-0600
TZOFFSETTO:-0500
TZNAME:CDT
DTSTART:20230312T080000
END:DAYLIGHT
BEGIN:STANDARD
TZOFFSETFROM:-0500
TZOFFSETTO:-0600
TZNAME:CST
DTSTART:20231105T070000
END:STANDARD
BEGIN:DAYLIGHT
TZOFFSETFROM:-0600
TZOFFSETTO:-0500
TZNAME:CDT
DTSTART:20240310T080000
END:DAYLIGHT
BEGIN:STANDARD
TZOFFSETFROM:-0500
TZOFFSETTO:-0600
TZNAME:CST
DTSTART:20241103T070000
END:STANDARD
END:VTIMEZONE
BEGIN:VEVENT
DTSTART;VALUE=DATE:20230304
DTEND;VALUE=DATE:20230305
DTSTAMP:20260425T202628
CREATED:20220412T161541Z
LAST-MODIFIED:20230224T194441Z
UID:3409-1677888000-1677974399@sost.org
SUMMARY:A Whole New World
DESCRIPTION:Pops 2\nA Whole New World with Peabo Bryson\nMarch 4\, 2023 7:30 PM \nIt is with great regret that we inform you that Marilyn McCoo and Billy Davis\, Jr. will not be with us for next Saturday’s concert. Mr. Davis is under doctor’s orders not to travel for the immediate future. Fortunately\, Peabo Bryson is able to perform with SOST in their stead. All tickets will be honored for the March 4th concert. Please call the office for further information. \n \nBorn Robert Peabo Bryson on April 13\, 1951 in Greenville\, South Carolina\, this world renowned balladeer got his start as the lead singer of Al Freeman & The Upsetters and Moses Dillard & The Tex-Town Display. In 1976\, he released his debut LP\, “Peabo”\, on Atlanta’s Bullet/Bang label. Peabo composed nearly all the songs for this album (some with the great Thom Bell)\, in addition to a young Luther Vandross being among the background vocalists\, and sexy Black film star Tamara “Cleopatra Jones” Dobson showing him love on the back jacket. \nPeabo had back-to-back gold albums with Capitol Records\, Reaching for the Sky (1977) and Crosswinds (1978). The title tracks of these albums\, as well as the hit singles “Feel the Fire” and “I’m So Into You”\, truly penetrated the hearts of soul fans everywhere. During his relationship with Capitol\, Peabo collaborated with label mate and friend Natalie Cole for the 1979 project “We’re the Best of Friends”. A year later he worked with the phenomenal Roberta Flack for the double-LP “Live & More” (on Atlantic Records). Peabo delivered four more albums for Capitol before making a second\, even bigger album with Ms. Flack titled Born to Love\, a gold seller that featured the smash “Tonight I Celebrate My Love” (Top 5 R&B and #16 Pop). Peabo soon moved over to Elektra Records for four albums\, the second of which\, “Take No Prisoners” featured the crossover smash “If Ever You’re In My Arms Again” (Top 10 Pop and R&B). \nA return to Capitol in 1989 for the one-off album “All My Love”\, earned Peabo his first R&B #1 single with a remake of the late Al Wilson’s “Show & Tell”. He hit the top of the R&B charts a second time with the smash “Can You Stop The Rain”\, the title track of his R&B chart topping first of two albums for Columbia Records. \nIt was with the help of very famous Disney animated films that earned Peabo his two Grammys and two Oscars®. The first was 1991’s “Beauty and the Beast” with international pop singer Celine Dion which also topped the pop chart. The very next year\, Peabo struck gold with a Grammy® and an Oscar® with Regina Belle for “A Whole New World” (Aladdin’s Theme) from Aladdin. Since these two milestones\, he has been even more sought after as a guest vocalist and duet partner\, resulting in work with Tony Award-winner Lea Salonga on “We Kiss in the Shadows” (#1 on the Classical Crossover chart from a new recording of “The King and I” score) and Kenny G’s “By The Time This Night is Over” (from the chart topping Contemporary Jazz CD\, Breathless. \nPeabo has since also starred on stage in the lead role of “Raisin\,” as The Wizard in “The Wiz” and was featured in the Michigan Opera’s 100th anniversary production of “Porgy & Bess.” He also released a whopping three Christmas CDs\, lovingly filled with music he’s performed for several years running in the annual touring holiday music extravaganza\, The Colors of Christmas. \nAs Peabo continues to make feel good music and sing about love\, he encourages fans of classic R&B to have their voices heard. \nTickets: $36-$78 \nGet Tickets \nSponsors: \n  \n  \nhttps://www.youtube.com/watch?v=Z3DtNcw_cNo \n  \n  \n  \n 
URL:https://sost.org/concert/up-up-and-away/
LOCATION:Julie Rogers Theatre for the Performing Arts\, 765 Pearl Street\, Beaumont\, 77701\, United States
CATEGORIES:Concerts,Pops
ATTACH;FMTTYPE=image/jpeg:https://sost.org/wp-content/uploads/2022/04/Peabo-Cover-1-scaled.jpg
END:VEVENT
END:VCALENDAR