BEGIN:VCALENDAR
VERSION:2.0
PRODID:-//Symphony of Southeast Texas - ECPv6.15.20//NONSGML v1.0//EN
CALSCALE:GREGORIAN
METHOD:PUBLISH
X-ORIGINAL-URL:https://sost.org
X-WR-CALDESC:Events for Symphony of Southeast Texas
REFRESH-INTERVAL;VALUE=DURATION:PT1H
X-Robots-Tag:noindex
X-PUBLISHED-TTL:PT1H
BEGIN:VTIMEZONE
TZID:America/Chicago
BEGIN:DAYLIGHT
TZOFFSETFROM:-0600
TZOFFSETTO:-0500
TZNAME:CDT
DTSTART:20220313T080000
END:DAYLIGHT
BEGIN:STANDARD
TZOFFSETFROM:-0500
TZOFFSETTO:-0600
TZNAME:CST
DTSTART:20221106T070000
END:STANDARD
BEGIN:DAYLIGHT
TZOFFSETFROM:-0600
TZOFFSETTO:-0500
TZNAME:CDT
DTSTART:20230312T080000
END:DAYLIGHT
BEGIN:STANDARD
TZOFFSETFROM:-0500
TZOFFSETTO:-0600
TZNAME:CST
DTSTART:20231105T070000
END:STANDARD
BEGIN:DAYLIGHT
TZOFFSETFROM:-0600
TZOFFSETTO:-0500
TZNAME:CDT
DTSTART:20240310T080000
END:DAYLIGHT
BEGIN:STANDARD
TZOFFSETFROM:-0500
TZOFFSETTO:-0600
TZNAME:CST
DTSTART:20241103T070000
END:STANDARD
END:VTIMEZONE
BEGIN:VEVENT
DTSTART;TZID=America/Chicago:20231020T170000
DTEND;TZID=America/Chicago:20231020T190000
DTSTAMP:20260425T091021
CREATED:20230905T144246Z
LAST-MODIFIED:20231010T170802Z
UID:4008-1697821200-1697828400@sost.org
SUMMARY:A Garden Concert
DESCRIPTION:The Beaumont Botanical Gardens is joining hands with The Symphony of Southeast Texas to present “A Garden Concert” here on our grounds on Friday\, October 20th. \nThis event is free to the public\, so we hope that you mark your calendars and make plans to join us for a lovely evening of music in the gardens. Feel free to bring a lawn chair!
URL:https://sost.org/concert/a-garden-concert/
LOCATION:Beamont Botanical Gardens\, 6088 Babe Zaharias Dr\, Beaumont\, TX\, 77705\, United States
CATEGORIES:Concerts,Extras
ATTACH;FMTTYPE=image/jpeg:https://sost.org/wp-content/uploads/2023/09/BBG.jpg
END:VEVENT
END:VCALENDAR