BEGIN:VCALENDAR
VERSION:2.0
PRODID:-//Symphony of Southeast Texas - ECPv6.15.20//NONSGML v1.0//EN
CALSCALE:GREGORIAN
METHOD:PUBLISH
X-ORIGINAL-URL:https://sost.org
X-WR-CALDESC:Events for Symphony of Southeast Texas
REFRESH-INTERVAL;VALUE=DURATION:PT1H
X-Robots-Tag:noindex
X-PUBLISHED-TTL:PT1H
BEGIN:VTIMEZONE
TZID:America/Chicago
BEGIN:DAYLIGHT
TZOFFSETFROM:-0600
TZOFFSETTO:-0500
TZNAME:CDT
DTSTART:20230312T080000
END:DAYLIGHT
BEGIN:STANDARD
TZOFFSETFROM:-0500
TZOFFSETTO:-0600
TZNAME:CST
DTSTART:20231105T070000
END:STANDARD
BEGIN:DAYLIGHT
TZOFFSETFROM:-0600
TZOFFSETTO:-0500
TZNAME:CDT
DTSTART:20240310T080000
END:DAYLIGHT
BEGIN:STANDARD
TZOFFSETFROM:-0500
TZOFFSETTO:-0600
TZNAME:CST
DTSTART:20241103T070000
END:STANDARD
BEGIN:DAYLIGHT
TZOFFSETFROM:-0600
TZOFFSETTO:-0500
TZNAME:CDT
DTSTART:20250309T080000
END:DAYLIGHT
BEGIN:STANDARD
TZOFFSETFROM:-0500
TZOFFSETTO:-0600
TZNAME:CST
DTSTART:20251102T070000
END:STANDARD
END:VTIMEZONE
BEGIN:VEVENT
DTSTART;TZID=America/Chicago:20240406T193000
DTEND;TZID=America/Chicago:20240406T193000
DTSTAMP:20260424T230235
CREATED:20230220T203148Z
LAST-MODIFIED:20240326T151336Z
UID:3752-1712431800-1712431800@sost.org
SUMMARY:Images that Inspire
DESCRIPTION:Classic Series IV \nApril 6\, 2024 at 7:30PM \nColeman: 7 O’clock Shout\nRutter: Gloria\nHanson: Song of Democracy\nMussorgsky: Pictures at an Exhibition \nChelsea Tipton II\, Conductor \nGet Tickets \nSponsored by: \nTBD \nGuest Artist Sponsor: \nSandra Clark
URL:https://sost.org/concert/images-that-inspire/
LOCATION:Julie Rogers Theatre for the Performing Arts\, 765 Pearl Street\, Beaumont\, 77701\, United States
CATEGORIES:Classics Series,Concerts
ATTACH;FMTTYPE=image/jpeg:https://sost.org/wp-content/uploads/2022/04/1-1.jpg
END:VEVENT
END:VCALENDAR