BEGIN:VCALENDAR
VERSION:2.0
PRODID:-//Symphony of Southeast Texas - ECPv6.15.20//NONSGML v1.0//EN
CALSCALE:GREGORIAN
METHOD:PUBLISH
X-WR-CALNAME:Symphony of Southeast Texas
X-ORIGINAL-URL:https://sost.org
X-WR-CALDESC:Events for Symphony of Southeast Texas
REFRESH-INTERVAL;VALUE=DURATION:PT1H
X-Robots-Tag:noindex
X-PUBLISHED-TTL:PT1H
BEGIN:VTIMEZONE
TZID:America/Chicago
BEGIN:DAYLIGHT
TZOFFSETFROM:-0600
TZOFFSETTO:-0500
TZNAME:CDT
DTSTART:20240310T080000
END:DAYLIGHT
BEGIN:STANDARD
TZOFFSETFROM:-0500
TZOFFSETTO:-0600
TZNAME:CST
DTSTART:20241103T070000
END:STANDARD
BEGIN:DAYLIGHT
TZOFFSETFROM:-0600
TZOFFSETTO:-0500
TZNAME:CDT
DTSTART:20250309T080000
END:DAYLIGHT
BEGIN:STANDARD
TZOFFSETFROM:-0500
TZOFFSETTO:-0600
TZNAME:CST
DTSTART:20251102T070000
END:STANDARD
BEGIN:DAYLIGHT
TZOFFSETFROM:-0600
TZOFFSETTO:-0500
TZNAME:CDT
DTSTART:20260308T080000
END:DAYLIGHT
BEGIN:STANDARD
TZOFFSETFROM:-0500
TZOFFSETTO:-0600
TZNAME:CST
DTSTART:20261101T070000
END:STANDARD
END:VTIMEZONE
BEGIN:VEVENT
DTSTART;TZID=America/Chicago:20250920T193000
DTEND;TZID=America/Chicago:20250920T213000
DTSTAMP:20260421T193530
CREATED:20250416T180313Z
LAST-MODIFIED:20250819T183619Z
UID:4439-1758396600-1758403800@sost.org
SUMMARY:Fiesta de Musica: A Hispanic Celebration
DESCRIPTION:Classic Series 1:\nMARQUEZ Danzon No.9 \nRODRIGO Concierto de Aranjuez \nfeaturing guest artist Jason Vieaux on guitar \nCHAVEZ Symphony No. 2\, “Sinfonia India” \nRAVEL Bolero
URL:https://sost.org/concert/fiesta-de-la-musica-a-hispanic-celebration/
LOCATION:Julie Rogers Theatre\, 765 Pearl St\, Beaumont\, 77701\, United States
CATEGORIES:Classics Series,Concerts,Symphonic Odyssey
ATTACH;FMTTYPE=image/jpeg:https://sost.org/wp-content/uploads/2025/04/JasonVieauxLights_byTylerBoye-scaled-e1744827651593.jpg
ORGANIZER;CN="The Symphony of Southeast Texas":MAILTO:sost@sost.org
END:VEVENT
END:VCALENDAR