BEGIN:VCALENDAR
VERSION:2.0
PRODID:-//Symphony of Southeast Texas - ECPv6.15.20//NONSGML v1.0//EN
CALSCALE:GREGORIAN
METHOD:PUBLISH
X-ORIGINAL-URL:https://sost.org
X-WR-CALDESC:Events for Symphony of Southeast Texas
REFRESH-INTERVAL;VALUE=DURATION:PT1H
X-Robots-Tag:noindex
X-PUBLISHED-TTL:PT1H
BEGIN:VTIMEZONE
TZID:America/Chicago
BEGIN:DAYLIGHT
TZOFFSETFROM:-0600
TZOFFSETTO:-0500
TZNAME:CDT
DTSTART:20240310T080000
END:DAYLIGHT
BEGIN:STANDARD
TZOFFSETFROM:-0500
TZOFFSETTO:-0600
TZNAME:CST
DTSTART:20241103T070000
END:STANDARD
BEGIN:DAYLIGHT
TZOFFSETFROM:-0600
TZOFFSETTO:-0500
TZNAME:CDT
DTSTART:20250309T080000
END:DAYLIGHT
BEGIN:STANDARD
TZOFFSETFROM:-0500
TZOFFSETTO:-0600
TZNAME:CST
DTSTART:20251102T070000
END:STANDARD
BEGIN:DAYLIGHT
TZOFFSETFROM:-0600
TZOFFSETTO:-0500
TZNAME:CDT
DTSTART:20260308T080000
END:DAYLIGHT
BEGIN:STANDARD
TZOFFSETFROM:-0500
TZOFFSETTO:-0600
TZNAME:CST
DTSTART:20261101T070000
END:STANDARD
END:VTIMEZONE
BEGIN:VEVENT
DTSTART;TZID=America/Chicago:20251019T173000
DTEND;TZID=America/Chicago:20251019T190000
DTSTAMP:20260421T174606
CREATED:20250911T192746Z
LAST-MODIFIED:20250911T192746Z
UID:4641-1760895000-1760900400@sost.org
SUMMARY:A Garden Concert
DESCRIPTION:Beaumont Botanical Gardens & The Symphony of Southeast Texas present\nThe 3rd annual “A Garden Concert” \nJoin us for an enchanting autumn evening as the Symphony of Southeast Texas fills the gardens with music! Surrounded by the beauty of nature\, enjoy a one-of-a-kind outdoor concert experience beneath the trees. \nBring the whole family – all ages are welcome to enjoy this free event! \nChairs will be available\, but feel free to bring your own lawn chair or picnic blanket for the perfect spot. A local food truck will be on-site with delicious eats to round out the evening. \nDon’t miss this magical night in the gardens!
URL:https://sost.org/concert/a-garden-concert-2/
LOCATION:Beamont Botanical Gardens\, 6088 Babe Zaharias Dr\, Beaumont\, TX\, 77705\, United States
CATEGORIES:Concerts,Extras
ATTACH;FMTTYPE=image/jpeg:https://sost.org/wp-content/uploads/2025/09/BBG_Arbor-e1757616079454.jpg
ORGANIZER;CN="The Symphony of Southeast Texas":MAILTO:sost@sost.org
END:VEVENT
END:VCALENDAR