BEGIN:VCALENDAR
VERSION:2.0
PRODID:-//Symphony of Southeast Texas - ECPv6.15.20//NONSGML v1.0//EN
CALSCALE:GREGORIAN
METHOD:PUBLISH
X-ORIGINAL-URL:https://sost.org
X-WR-CALDESC:Events for Symphony of Southeast Texas
REFRESH-INTERVAL;VALUE=DURATION:PT1H
X-Robots-Tag:noindex
X-PUBLISHED-TTL:PT1H
BEGIN:VTIMEZONE
TZID:America/Chicago
BEGIN:DAYLIGHT
TZOFFSETFROM:-0600
TZOFFSETTO:-0500
TZNAME:CDT
DTSTART:20240310T080000
END:DAYLIGHT
BEGIN:STANDARD
TZOFFSETFROM:-0500
TZOFFSETTO:-0600
TZNAME:CST
DTSTART:20241103T070000
END:STANDARD
BEGIN:DAYLIGHT
TZOFFSETFROM:-0600
TZOFFSETTO:-0500
TZNAME:CDT
DTSTART:20250309T080000
END:DAYLIGHT
BEGIN:STANDARD
TZOFFSETFROM:-0500
TZOFFSETTO:-0600
TZNAME:CST
DTSTART:20251102T070000
END:STANDARD
BEGIN:DAYLIGHT
TZOFFSETFROM:-0600
TZOFFSETTO:-0500
TZNAME:CDT
DTSTART:20260308T080000
END:DAYLIGHT
BEGIN:STANDARD
TZOFFSETFROM:-0500
TZOFFSETTO:-0600
TZNAME:CST
DTSTART:20261101T070000
END:STANDARD
END:VTIMEZONE
BEGIN:VEVENT
DTSTART;TZID=America/Chicago:20251025T193000
DTEND;TZID=America/Chicago:20251025T213000
DTSTAMP:20260421T174632
CREATED:20250416T180351Z
LAST-MODIFIED:20251001T212146Z
UID:4458-1761420600-1761427800@sost.org
SUMMARY:Cirque de la Symphonie
DESCRIPTION:Pops Series 1:\nPrepare to be amazed as the symphony meets the circus in this thrilling collaboration of music and acrobatics! \nCirque de la Symphonie brings together world-class circus performers and the powerful sounds of the orchestra. \nFeaturing aerialists\, acrobats\, jugglers\, and more – all set to live symphonic music\, sure to captivate people of all ages! \n \nThe Symphony of Southeast Texas invites you to participate in this year’s “Spooktacular Costume Contest” during our upcoming concert “Cirque de la Symphonie” on October 25th.\nAll ages are welcome to participate for a chance to win a prize in one of five age categories! \nLink to registration form: \nhttps://forms.gle/oD5S3YYTnzibYCiL7 \nImportant Information: \n\nRegistration and judging will take place between 6:30pm and 7:15pm prior to the concert.\nJudging criteria: Originality\, detail\, and presentation.\nWinners will be announced during intermission and must be present to win.\nPhotos and videos may be used by SOST for marketing purposes.\nCostumes should be family friendly; determination at the discretion of SOST management.\n\nThank you and we hope to see you there!
URL:https://sost.org/concert/cirque-de-la-symphonie/
LOCATION:Julie Rogers Theatre\, 765 Pearl St\, Beaumont\, 77701\, United States
CATEGORIES:Concerts,Pops,Symphonic Odyssey
ATTACH;FMTTYPE=image/jpeg:https://sost.org/wp-content/uploads/2025/04/on13-e1744827606149.jpg
ORGANIZER;CN="The Symphony of Southeast Texas":MAILTO:sost@sost.org
END:VEVENT
END:VCALENDAR