BEGIN:VCALENDAR
VERSION:2.0
PRODID:-//Symphony of Southeast Texas - ECPv6.15.20//NONSGML v1.0//EN
CALSCALE:GREGORIAN
METHOD:PUBLISH
X-WR-CALNAME:Symphony of Southeast Texas
X-ORIGINAL-URL:https://sost.org
X-WR-CALDESC:Events for Symphony of Southeast Texas
REFRESH-INTERVAL;VALUE=DURATION:PT1H
X-Robots-Tag:noindex
X-PUBLISHED-TTL:PT1H
BEGIN:VTIMEZONE
TZID:America/Chicago
BEGIN:DAYLIGHT
TZOFFSETFROM:-0600
TZOFFSETTO:-0500
TZNAME:CDT
DTSTART:20240310T080000
END:DAYLIGHT
BEGIN:STANDARD
TZOFFSETFROM:-0500
TZOFFSETTO:-0600
TZNAME:CST
DTSTART:20241103T070000
END:STANDARD
BEGIN:DAYLIGHT
TZOFFSETFROM:-0600
TZOFFSETTO:-0500
TZNAME:CDT
DTSTART:20250309T080000
END:DAYLIGHT
BEGIN:STANDARD
TZOFFSETFROM:-0500
TZOFFSETTO:-0600
TZNAME:CST
DTSTART:20251102T070000
END:STANDARD
BEGIN:DAYLIGHT
TZOFFSETFROM:-0600
TZOFFSETTO:-0500
TZNAME:CDT
DTSTART:20260308T080000
END:DAYLIGHT
BEGIN:STANDARD
TZOFFSETFROM:-0500
TZOFFSETTO:-0600
TZNAME:CST
DTSTART:20261101T070000
END:STANDARD
END:VTIMEZONE
BEGIN:VEVENT
DTSTART;TZID=America/Chicago:20251207T150000
DTEND;TZID=America/Chicago:20251207T170000
DTSTAMP:20260421T155216
CREATED:20250610T180020Z
LAST-MODIFIED:20251119T181525Z
UID:4469-1765119600-1765126800@sost.org
SUMMARY:A Holiday Spectacular
DESCRIPTION:Celebrate the magic of the season with our Holiday Spectacular! \n\nThe Holiday Season is here and we are welcoming it with our upcoming “Holiday Spectacular!” 🎄\n\n\nJoin us at the Julie Rogers Theatre on December 7th at 3:00pm for a concert full of holiday cheer and fun for the entire family! 🎁\n\n\n \n\n\nThe concert features:\n\n\n– Hunter Courts 🎤\n\n\n– The SOST Chorus 🎵\n\n\n– The Nederland HS Choir 🎶\n\n\n– The Beaumont Civic Ballet performing an excerpt from Nutcracker 🎁\n\n\n \n\n\nThere will also be a special appearance from Mr. and Mrs. Claus along with a free intermission treat of hot chocolate and cookies 🍪☕️\n\n\nGet to the theatre early for an additional pre-concert performance from the Symphony League After School String program starting at 2pm 🎻\n\n\n \n\n\nDon’t miss out on this opportunity to celebrate the season with friends\, family\, and the Southeast Texas community! ✨\nTickets available now:\nA Holiday Spectacular – Tickets\n\n\n \n\n\nThank you to our generous sponsors for their support:\n\n\n \n\n\nAmerican Valve and Hydrant\n\n\nUniversal Coin and Bullion \n\n\nFirst Financial Bank and First Financial Trust\n\nSave the date\, you don’t want to miss it!
URL:https://sost.org/concert/a-holiday-spectacular-2/
LOCATION:Julie Rogers Theatre\, 765 Pearl St\, Beaumont\, 77701\, United States
CATEGORIES:Concerts,Holiday,Symphonic Odyssey
ATTACH;FMTTYPE=image/jpeg:https://sost.org/wp-content/uploads/2025/06/Hunter-courts-1875-x-1350-px.jpg
ORGANIZER;CN="The Symphony of Southeast Texas":MAILTO:sost@sost.org
END:VEVENT
END:VCALENDAR