BEGIN:VCALENDAR
VERSION:2.0
PRODID:-//Symphony of Southeast Texas - ECPv6.15.20//NONSGML v1.0//EN
CALSCALE:GREGORIAN
METHOD:PUBLISH
X-WR-CALNAME:Symphony of Southeast Texas
X-ORIGINAL-URL:https://sost.org
X-WR-CALDESC:Events for Symphony of Southeast Texas
REFRESH-INTERVAL;VALUE=DURATION:PT1H
X-Robots-Tag:noindex
X-PUBLISHED-TTL:PT1H
BEGIN:VTIMEZONE
TZID:America/Chicago
BEGIN:DAYLIGHT
TZOFFSETFROM:-0600
TZOFFSETTO:-0500
TZNAME:CDT
DTSTART:20240310T080000
END:DAYLIGHT
BEGIN:STANDARD
TZOFFSETFROM:-0500
TZOFFSETTO:-0600
TZNAME:CST
DTSTART:20241103T070000
END:STANDARD
BEGIN:DAYLIGHT
TZOFFSETFROM:-0600
TZOFFSETTO:-0500
TZNAME:CDT
DTSTART:20250309T080000
END:DAYLIGHT
BEGIN:STANDARD
TZOFFSETFROM:-0500
TZOFFSETTO:-0600
TZNAME:CST
DTSTART:20251102T070000
END:STANDARD
BEGIN:DAYLIGHT
TZOFFSETFROM:-0600
TZOFFSETTO:-0500
TZNAME:CDT
DTSTART:20260308T080000
END:DAYLIGHT
BEGIN:STANDARD
TZOFFSETFROM:-0500
TZOFFSETTO:-0600
TZNAME:CST
DTSTART:20261101T070000
END:STANDARD
END:VTIMEZONE
BEGIN:VEVENT
DTSTART;TZID=America/Chicago:20251213T180000
DTEND;TZID=America/Chicago:20251213T210000
DTSTAMP:20260421T140413
CREATED:20250911T203215Z
LAST-MODIFIED:20251211T151103Z
UID:4654-1765648800-1765659600@sost.org
SUMMARY:The Nutcracker
DESCRIPTION:Experience the Magic of The Nutcracker Ballet with Live Symphony! \nBeaumont Civic Ballet is thrilled to announce a truly special performance of The Nutcracker—\nfor one night only—with the Symphony of Southeast Texas playing live! \nSATURDAY\, DECEMBER 13\n6:00 PM\nJULIE ROGERS THEATRE \nThis unforgettable evening brings together two of Southeast Texas’ most cherished arts organizations for a dazzling holiday tradition. Don’t miss this\nmagical collaboration of dance and live music—an event sure to delight audiences of all ages.\nTickets will go on sale towards the end of October at beaumontcivicballet.net. \nFollow us on social media for the exact on-sale date!\nJoin us and make The Nutcracker part of your holiday season!
URL:https://sost.org/concert/the-nutcracker/
LOCATION:Julie Rogers Theatre\, 765 Pearl St\, Beaumont\, 77701\, United States
CATEGORIES:Concerts,Holiday
ATTACH;FMTTYPE=image/jpeg:https://sost.org/wp-content/uploads/2025/09/NutcrackerCover.jpg
ORGANIZER;CN="The Symphony of Southeast Texas":MAILTO:sost@sost.org
END:VEVENT
END:VCALENDAR