BEGIN:VCALENDAR
VERSION:2.0
PRODID:-//Symphony of Southeast Texas - ECPv6.15.20//NONSGML v1.0//EN
CALSCALE:GREGORIAN
METHOD:PUBLISH
X-ORIGINAL-URL:https://sost.org
X-WR-CALDESC:Events for Symphony of Southeast Texas
REFRESH-INTERVAL;VALUE=DURATION:PT1H
X-Robots-Tag:noindex
X-PUBLISHED-TTL:PT1H
BEGIN:VTIMEZONE
TZID:America/Chicago
BEGIN:DAYLIGHT
TZOFFSETFROM:-0600
TZOFFSETTO:-0500
TZNAME:CDT
DTSTART:20220313T080000
END:DAYLIGHT
BEGIN:STANDARD
TZOFFSETFROM:-0500
TZOFFSETTO:-0600
TZNAME:CST
DTSTART:20221106T070000
END:STANDARD
BEGIN:DAYLIGHT
TZOFFSETFROM:-0600
TZOFFSETTO:-0500
TZNAME:CDT
DTSTART:20230312T080000
END:DAYLIGHT
BEGIN:STANDARD
TZOFFSETFROM:-0500
TZOFFSETTO:-0600
TZNAME:CST
DTSTART:20231105T070000
END:STANDARD
BEGIN:DAYLIGHT
TZOFFSETFROM:-0600
TZOFFSETTO:-0500
TZNAME:CDT
DTSTART:20240310T080000
END:DAYLIGHT
BEGIN:STANDARD
TZOFFSETFROM:-0500
TZOFFSETTO:-0600
TZNAME:CST
DTSTART:20241103T070000
END:STANDARD
END:VTIMEZONE
BEGIN:VEVENT
DTSTART;VALUE=DATE:20230401
DTEND;VALUE=DATE:20230402
DTSTAMP:20260425T170812
CREATED:20220412T151533Z
LAST-MODIFIED:20230314T153132Z
UID:3394-1680307200-1680393599@sost.org
SUMMARY:Fanfare and Fortitude
DESCRIPTION:Classic Series IV\nFanfare and Fortitude\nApril 1\, 2023 7:30PM\n \n  \nStrauss              Vienna Philharmonic Fanfare \nRespighi           Ancient Airs and Dances No. 2 \nOrff                    Carmina Burana \nfeaturing the SOST Chorus\, Lamar University Choir\, Les Petites Voix (a children’s choir) and soloists Abigail Dueppen\, Blas Canedo-González and Steven Brennfleck \n  \nChelsea Tipton II\, Conductor \n  \nTickets: $33-$57 \nGet Tickets \n  \nConcert Sponsor: \n      \nGuest Artist Sponsor: Sandra Clark \n  \nRichard Strauss began our season with his Rosenkavalier Suite and kicks off the final concert with his Fanfare for the Vienna Philharmonic.  One of their favorite composers\, this short piece was composed and dedicated to the orchestra to begin the grand ball that raised funds for the musicians’ pension fund.  A triumphant work that announced the matron of the ball\, it has been played every year since!  While we don’t have a ball\, SOST is pleased to conclude this Anniversary season with a majestic fanfare\, followed by the grandest of symphonic pieces\, Carmina Burana. \nBefore the heavens open in our last epic of the season\, Maestro Tipton treats us to gentler symphonic movements of lute dances from Respighi’s Ancient Airs and Dances.  Orchestrated to give a great contrast from fanfares to the bombastic Carmina\, it is a delicate touch that calls some of the lighter movements of the Orff to mind. \nSo\, we end our celebration with one of the grandest productions of Symphonic literature. Carl Orff brings to the stage a full complement of instruments\, choirs and vocal soloists; clearly giving our SOST a chance to shine and send us home very grateful that these 70 years resulted in enjoying great music\, whether it is soft and gentle\, exciting or bombastic\, yet it is all harmonious. \nAbigail Dueppen\nBlas Canedo-González\n  \nSteven Brennfleck\n  \nLes Petites Voix
URL:https://sost.org/concert/fanfare-and-fortitude/
LOCATION:Julie Rogers Theatre\, 765 Pearl St\, Beaumont\, 77701\, United States
CATEGORIES:Classics Series,Concerts
ATTACH;FMTTYPE=image/jpeg:https://sost.org/wp-content/uploads/2022/04/1-1.jpg
END:VEVENT
BEGIN:VEVENT
DTSTART;VALUE=DATE:20230412
DTEND;VALUE=DATE:20230413
DTSTAMP:20260425T170812
CREATED:20221026T173241Z
LAST-MODIFIED:20230322T195851Z
UID:3638-1681257600-1681343999@sost.org
SUMMARY:Youth Education Concert
DESCRIPTION:The youth education concert will be on April 12. \n \nSOST invites you and your students to a FREE concert exploring notable images from history and how they relate to patterns\, structure\, and form in music! \nStudents will learn how music is comprised of patterns\, the relationship between different elements of a particular work\, and how that form is an essential aspect of music and art. Come explore how music plays a part in the visual arts as well as mathematics.\nThe concert will include music from Berlioz\, Britten\, Beethoven\, Mozart\, Ginastera\, and Rossini. \nMaestro Chelsea Tipton II will lead the SOST in a live concert at the Julie Rogers Theatre. The concert will also feature our 2023 Concerto Competition winner! \nThis program is created for fifth grade students utilizing many of the key elements included in STARR testing\, but all ages are welcome. We hope you’ll take a morning adventure and join us by completing the form below. \n  \nPlease fill out and return this form to sign up your class for the concert! Deadline to sign up is March 31\, 2023.\nReservation | PDF \nTeacher’s Guide | PDF \nAttending the Youth Concert Part1 – YouTube \nAttending the Youth Concert Part2 – YouTube \nYouth Concert Teachers Guide 2023\n 
URL:https://sost.org/concert/youth-education-concert-3/
LOCATION:Julie Rogers Theatre for the Performing Arts\, 765 Pearl Street\, Beaumont\, 77701\, United States
CATEGORIES:Concerts,Education
ATTACH;FMTTYPE=image/png:https://sost.org/wp-content/uploads/2022/10/youth.png
END:VEVENT
END:VCALENDAR