BEGIN:VCALENDAR
VERSION:2.0
PRODID:-//Symphony of Southeast Texas - ECPv6.15.20//NONSGML v1.0//EN
CALSCALE:GREGORIAN
METHOD:PUBLISH
X-ORIGINAL-URL:https://sost.org
X-WR-CALDESC:Events for Symphony of Southeast Texas
REFRESH-INTERVAL;VALUE=DURATION:PT1H
X-Robots-Tag:noindex
X-PUBLISHED-TTL:PT1H
BEGIN:VTIMEZONE
TZID:America/Chicago
BEGIN:DAYLIGHT
TZOFFSETFROM:-0600
TZOFFSETTO:-0500
TZNAME:CDT
DTSTART:20230312T080000
END:DAYLIGHT
BEGIN:STANDARD
TZOFFSETFROM:-0500
TZOFFSETTO:-0600
TZNAME:CST
DTSTART:20231105T070000
END:STANDARD
BEGIN:DAYLIGHT
TZOFFSETFROM:-0600
TZOFFSETTO:-0500
TZNAME:CDT
DTSTART:20240310T080000
END:DAYLIGHT
BEGIN:STANDARD
TZOFFSETFROM:-0500
TZOFFSETTO:-0600
TZNAME:CST
DTSTART:20241103T070000
END:STANDARD
BEGIN:DAYLIGHT
TZOFFSETFROM:-0600
TZOFFSETTO:-0500
TZNAME:CDT
DTSTART:20250309T080000
END:DAYLIGHT
BEGIN:STANDARD
TZOFFSETFROM:-0500
TZOFFSETTO:-0600
TZNAME:CST
DTSTART:20251102T070000
END:STANDARD
END:VTIMEZONE
BEGIN:VEVENT
DTSTART;TZID=America/Chicago:20241208T150000
DTEND;TZID=America/Chicago:20241208T150000
DTSTAMP:20260424T071354
CREATED:20240221T171509Z
LAST-MODIFIED:20240916T192752Z
UID:4179-1733670000-1733670000@sost.org
SUMMARY:A Holiday Spectacular
DESCRIPTION:December 8\, 2024 at 3PM \nJoin us for an unforgettable holiday celebration with community legend Jimmy Simmons\, your favorite SOST Chorus and more local surprises you don’t want to miss! \nMore info to come! \nSponsored by: American Valve and Hydrant \nBaptist Hospitals of Southeast Texas
URL:https://sost.org/concert/a-holiday-spectacular/
LOCATION:Julie Rogers Theatre for the Performing Arts\, 765 Pearl Street\, Beaumont\, 77701\, United States
CATEGORIES:Concerts,Holiday
ATTACH;FMTTYPE=image/jpeg:https://sost.org/wp-content/uploads/2024/02/simmons-jimmy-sax-web-e1708535682823.jpg
END:VEVENT
END:VCALENDAR