BEGIN:VCALENDAR
VERSION:2.0
PRODID:-//Symphony of Southeast Texas - ECPv6.15.20//NONSGML v1.0//EN
CALSCALE:GREGORIAN
METHOD:PUBLISH
X-WR-CALNAME:Symphony of Southeast Texas
X-ORIGINAL-URL:https://sost.org
X-WR-CALDESC:Events for Symphony of Southeast Texas
REFRESH-INTERVAL;VALUE=DURATION:PT1H
X-Robots-Tag:noindex
X-PUBLISHED-TTL:PT1H
BEGIN:VTIMEZONE
TZID:America/Chicago
BEGIN:DAYLIGHT
TZOFFSETFROM:-0600
TZOFFSETTO:-0500
TZNAME:CDT
DTSTART:20240310T080000
END:DAYLIGHT
BEGIN:STANDARD
TZOFFSETFROM:-0500
TZOFFSETTO:-0600
TZNAME:CST
DTSTART:20241103T070000
END:STANDARD
BEGIN:DAYLIGHT
TZOFFSETFROM:-0600
TZOFFSETTO:-0500
TZNAME:CDT
DTSTART:20250309T080000
END:DAYLIGHT
BEGIN:STANDARD
TZOFFSETFROM:-0500
TZOFFSETTO:-0600
TZNAME:CST
DTSTART:20251102T070000
END:STANDARD
BEGIN:DAYLIGHT
TZOFFSETFROM:-0600
TZOFFSETTO:-0500
TZNAME:CDT
DTSTART:20260308T080000
END:DAYLIGHT
BEGIN:STANDARD
TZOFFSETFROM:-0500
TZOFFSETTO:-0600
TZNAME:CST
DTSTART:20261101T070000
END:STANDARD
END:VTIMEZONE
BEGIN:VEVENT
DTSTART;TZID=America/Chicago:20250704T200000
DTEND;TZID=America/Chicago:20250704T210000
DTSTAMP:20260421T213145
CREATED:20250610T181210Z
LAST-MODIFIED:20250610T184131Z
UID:4556-1751659200-1751662800@sost.org
SUMMARY:Fourth of July: Free Community Concert
DESCRIPTION:The Symphony of Southeast Texas is celebrating the Fourth of July with a free community concert in cooperation with the City of Beaumont.\nThe concert will begin at 8:00pm on Friday\, July 4th and will be held at the Julie Rogers Theatre.\nThe show will feature the St. Andrew’s Presbyterian Church choir along with the symphony.\n\nThis is a free community concert\, so there is no need to purchase tickets.\nAll that you need to do is join us at the Julie Rogers Theatre and enjoy the show!After the concert\, audience members are encouraged to continue the celebration by gathering on the lawn and watching the fireworks.\n\nWe thank H-E-B and Rave Financial for sponsoring this concert!\n\nCome out and celebrate the Fourth of July with your Symphony of Southeast Texas!
URL:https://sost.org/concert/fourth-of-july-free-community-concert/
LOCATION:Julie Rogers Theatre\, 765 Pearl St\, Beaumont\, 77701\, United States
CATEGORIES:Concerts,Extras,Symphonic Odyssey
ATTACH;FMTTYPE=image/jpeg:https://sost.org/wp-content/uploads/2025/06/TJS-230704-SOST-2-scaled.jpg
END:VEVENT
END:VCALENDAR